BEGIN:VCALENDAR
VERSION:2.0
PRODID:-//Hunter Innovation Festival - ECPv6.0.0//NONSGML v1.0//EN
CALSCALE:GREGORIAN
METHOD:PUBLISH
X-WR-CALNAME:Hunter Innovation Festival
X-ORIGINAL-URL:https://hunterinnofest.hyperstage.com.au
X-WR-CALDESC:Events for Hunter Innovation Festival
REFRESH-INTERVAL;VALUE=DURATION:PT1H
X-Robots-Tag:noindex
X-PUBLISHED-TTL:PT1H
BEGIN:VTIMEZONE
TZID:Australia/Sydney
BEGIN:STANDARD
TZOFFSETFROM:+1100
TZOFFSETTO:+1000
TZNAME:AEST
DTSTART:20230401T160000
END:STANDARD
BEGIN:DAYLIGHT
TZOFFSETFROM:+1000
TZOFFSETTO:+1100
TZNAME:AEDT
DTSTART:20230930T160000
END:DAYLIGHT
BEGIN:STANDARD
TZOFFSETFROM:+1100
TZOFFSETTO:+1000
TZNAME:AEST
DTSTART:20240406T160000
END:STANDARD
BEGIN:DAYLIGHT
TZOFFSETFROM:+1000
TZOFFSETTO:+1100
TZNAME:AEDT
DTSTART:20241005T160000
END:DAYLIGHT
END:VTIMEZONE
BEGIN:VEVENT
DTSTART;VALUE=DATE:20241025
DTEND;VALUE=DATE:20241026
DTSTAMP:20260420T011131
CREATED:20240714T002018Z
LAST-MODIFIED:20240820T235437Z
UID:10000014-1729814400-1729900799@hunterinnofest.hyperstage.com.au
SUMMARY:Muswellbrook Roadshow Event
DESCRIPTION:Stay tuned for more info!
URL:https://hunterinnofest.hyperstage.com.au/event/muswellbrook-roadshow/
END:VEVENT
BEGIN:VEVENT
DTSTART;VALUE=DATE:20241024
DTEND;VALUE=DATE:20241025
DTSTAMP:20260420T011131
CREATED:20240714T001912Z
LAST-MODIFIED:20240820T235527Z
UID:10000013-1729728000-1729814399@hunterinnofest.hyperstage.com.au
SUMMARY:Singleton Roadshow Event
DESCRIPTION:Stay tuned for more info!
URL:https://hunterinnofest.hyperstage.com.au/event/singleton-roadshow/
END:VEVENT
BEGIN:VEVENT
DTSTART;VALUE=DATE:20241023
DTEND;VALUE=DATE:20241024
DTSTAMP:20260420T011131
CREATED:20240714T001730Z
LAST-MODIFIED:20240820T235533Z
UID:10000011-1729641600-1729727999@hunterinnofest.hyperstage.com.au
SUMMARY:Port Stephens Roadshow Event
DESCRIPTION:Stay tuned for more info!
URL:https://hunterinnofest.hyperstage.com.au/event/port-stephens-roadshow/
END:VEVENT
BEGIN:VEVENT
DTSTART;VALUE=DATE:20241022
DTEND;VALUE=DATE:20241023
DTSTAMP:20260420T011131
CREATED:20240714T001821Z
LAST-MODIFIED:20240820T235417Z
UID:10000012-1729555200-1729641599@hunterinnofest.hyperstage.com.au
SUMMARY:Maitland Roadshow Event
DESCRIPTION:Stay tuned for more info!
URL:https://hunterinnofest.hyperstage.com.au/event/maitland-roadshow/
END:VEVENT
BEGIN:VEVENT
DTSTART;VALUE=DATE:20241021
DTEND;VALUE=DATE:20241022
DTSTAMP:20260420T011131
CREATED:20240714T001639Z
LAST-MODIFIED:20240820T235420Z
UID:10000010-1729468800-1729555199@hunterinnofest.hyperstage.com.au
SUMMARY:Lake Macquarie Roadshow Event
DESCRIPTION:Stay tuned for more info!
URL:https://hunterinnofest.hyperstage.com.au/event/lake-macquarie-roadshow/
END:VEVENT
BEGIN:VEVENT
DTSTART;TZID=Australia/Sydney:20231026T170000
DTEND;TZID=Australia/Sydney:20231026T193000
DTSTAMP:20260420T011131
CREATED:20231005T225614Z
LAST-MODIFIED:20231005T230349Z
UID:10000009-1698339600-1698348600@hunterinnofest.hyperstage.com.au
SUMMARY:Hunter Circular presents International Insights for a Circular Hunter
DESCRIPTION:An inspiring and insightful event where leaders in the Australian Circular Economy space come together to share their learnings after attending the World Circular Economy Forum 2023. This exciting gathering will feature speakers; Nicole Garafano (Planet Ark’s ACE Hub)\, Eloise Lobsey (Hunter Joint Organisation)\, and Annie Jiang (Go Circular)\, who have explored innovative circular economy solutions on an international scale. We will also be launching an innovative online platform for circular economy in the Hunter and showcasing local circular initiatives through interactive stalls. \nTicket includes: attendance\, drink upon arrival and canapes. \n  \nAnnie Jiang \nAnnie Jiang is CEO of Go Circular\, a strategic advisory organisation focusing on circular economy and sustainability. Go Circular delivers the values and benefits of circular economics and long-term sustainability to businesses\, communities\, governments and knowledge institutions. \nAnnie brings international expertise and insight in a range of industries that enable her to relate commercial drivers to circular economics. \nAnnie has been working with a broad spectrum of businesses through their project in sustainability and circular economy- from small café owners\, state and local government departments to large multinational companies. \nAnnie holds number of Non-Executive Director roles and has Bachelor of Business\, Master of HR Management\, Graduate of Environmental Management and Graduate of Australian Institute of Company Directors. \n  \nDr Nicole Garofano \nDr Nicole Garofano is the Head of Circular Economy Development for Planet Ark. In her role\, Nicole leads the ongoing strategic development of the Australian Circular Economy (ACE) Hub\, the national reference platform for circular economy knowledge and collaboration in Australia. \nFor almost 20 years\, Nicole has worked in environmental education and action with a focus on waste management\, and more recently\, circular economy. \nNicole has a PhD from research focused on the plastic food and beverage packaging value chain\, identifying innovation to improve chain activities and outcomes. \n  \nEloise Lobsey \nEloise is the Program Lead for Circular Economy at the Hunter Joint Organisation\, a program focussed on coordinating the various ways in which local government can help catalyse the region’s transition to a circular economy. \nEloise is passionate systems thinker and circular design advocate who believes in the collective power of adopting regenerative mindsets. A town planner by trade\, Eloise has 15 years of local government experience in NSW\, Victoria and the UK\, working across a range of environmental policy and programs focus areas including resource recovery\, circular economy\, food systems\, behaviour change\, placemaking\, sustainable design and land use planning. \n  \nGet tickets to this event here.
URL:https://hunterinnofest.hyperstage.com.au/event/hunter-circular-presents-international-insights-for-a-circular-hunter/
LOCATION:Q Building\, 16B Honeysuckle Drive\, Newcastle\, NSW\, 2300\, Australia
ATTACH;FMTTYPE=image/jpeg:https://hunterinnofest.hyperstage.com.au/wp-content/uploads/2023/10/HC_International-Insights_Header.jpg
END:VEVENT
BEGIN:VEVENT
DTSTART;TZID=Australia/Sydney:20231018T170000
DTEND;TZID=Australia/Sydney:20231018T203000
DTSTAMP:20260420T011131
CREATED:20230912T191412Z
LAST-MODIFIED:20231014T032304Z
UID:10000007-1697648400-1697661000@hunterinnofest.hyperstage.com.au
SUMMARY:A Taste of the Shark Tank
DESCRIPTION:A Taste of the Shark Tank with Hunter Angels\, in partnership with The Hunter Innovation Festival \nAbout the Event \nGet ready for a dynamic and collaborative pitch showcase\, where innovative minds come together to shape the future! As part of the Innovation Festival\, Hunter Angels invites you to experience a showcase inspired by the spirit of Shark Tank\, but with a unique emphasis on collaboration and community-building. \nWhy Attend? \n\nWitness Innovation in Action: See firsthand how ground breaking ideas are brought to life through the Hunter Angels pitch process.\nCollaborative Entrepreneurship: Our showcase fosters an environment of teamwork and shared vision\, where entrepreneurs and investors work together to create success stories.\nConnect with Visionaries: Network with fellow innovators\, seasoned investors\, and industry leaders who share a passion for driving change and progress.\nBe Inspired: Gain insights from success stories\, learn from challenges\, and leave with a renewed sense of purpose and motivation.\n\nEvent Details \nDate: October 18\, 2023 \nTime: 5:00pm to 8:30pm \nVenue: Q Building\, 16B Honeysuckle Drive\, Newcastle \nTicket includes light refreshments \n  \nRegister Now \nDon’t miss out on this opportunity to be a part of a transformative event that celebrates innovation\, collaboration\, and entrepreneurship. \nClick here to purchase your ticket. \nAbout Hunter Angels \nHunter Angels is an angel investing group committed to identifying and investing in innovative\, early-stage companies with the potential for high growth in the Hunter region and adjoining areas. \nWe prioritise companies with a clear path to monetisation and are led by a diverse team. We also look for founders with a strong vision and the ability to execute on that vision. Our goal is to support and invest in these companies to help them achieve their full potential. \nIn addition to providing funding and support to early-stage companies\, we also believe in the importance of mentorship and guidance for entrepreneurs. Our members are experienced investors and professionals and will work closely with the companies we invest in to provide valuable insights and advice and to help them navigate the challenges of growing a business. \n 
URL:https://hunterinnofest.hyperstage.com.au/event/a-taste-of-the-shark-tank/
LOCATION:Q Building\, 16B Honeysuckle Drive\, Newcastle\, NSW\, 2300\, Australia
ATTACH;FMTTYPE=image/jpeg:https://hunterinnofest.hyperstage.com.au/wp-content/uploads/2023/09/69926831_1032731143597318_5674433177121193984_n.jpg
END:VEVENT
BEGIN:VEVENT
DTSTART;TZID=Australia/Sydney:20231013T073000
DTEND;TZID=Australia/Sydney:20231013T090000
DTSTAMP:20260420T011131
CREATED:20230807T190540Z
LAST-MODIFIED:20230906T200139Z
UID:10000006-1697182200-1697187600@hunterinnofest.hyperstage.com.au
SUMMARY:Lake Macquarie Roadshow Event
DESCRIPTION:In a world driven by innovation\, making has become a cornerstone of individual\, business\, and community progress. From small-scale workshops to global movements\, the act of creating\, tinkering\, and inventing is changing the way we approach problem-solving\, entrepreneurship\, and sustainability. \nJoin us for this networking breakfast and hear from industry speakers\, including Lake Macquarie City Council’s Fab Lab Lead\, Claire Chaikin-Bryan. \nLimited tickets are available\, so be sure to reserve your ticket early to guarantee your spot at this exciting event. \n\n\n\n\nTopics Covered \nFab Labs: Explore the global network of Digital Fabrication Laboratories (Fab Labs) and discover how these creative spaces empower individuals\, communities and businesses to turn ideas into tangible reality. Also hear about the Hunter’s own Fab Lab; the Lake Mac Libraries Fab Lab. \nFab City: Learn about the exciting concept of Fab City\, where cities envision a future where they produce locally what they consume globally\, fostering economic resilience and sustainability. \n\n\n\n\nWhat You’ll Gain by Attending \nInspiration: Gain fresh perspectives on innovation and the power of making to drive change. \nKnowledge: Acquire insights into Fab Labs\, the maker movement\, and Fab City\, and how these concepts are influencing innovation worldwide. \nNetworking: Connect with like-minded professionals\, entrepreneurs\, and innovators from the Hunter region\, opening doors to potential collaborations and opportunities. \n\n\n\n\nThis event is being hosted by Lake Macquarie City Council as part of the Hunter Innovation Festival Roadshow. \nClick here for your free ticket.
URL:https://hunterinnofest.hyperstage.com.au/event/lake-macquarie-roadshow-event/
LOCATION:Multi-Arts Pavilion (MAP mima) Lake Macquarie\, 96 Creek Reserve Road\, Speers Point\, NSW\, 2284\, Australia
ATTACH;FMTTYPE=image/jpeg:https://hunterinnofest.hyperstage.com.au/wp-content/uploads/2023/08/https___cdn.evbuc_.com_images_591448189_1651845862233_1_original.jpg
END:VEVENT
BEGIN:VEVENT
DTSTART;TZID=Australia/Sydney:20231012T170000
DTEND;TZID=Australia/Sydney:20231012T190000
DTSTAMP:20260420T011131
CREATED:20230926T194008Z
LAST-MODIFIED:20230926T194008Z
UID:10000008-1697130000-1697137200@hunterinnofest.hyperstage.com.au
SUMMARY:Navigating the Promise and Peril of Generative AI
DESCRIPTION:Predictions that generative artificial intelligence will displace millions of workers and cause widespread economic upheaval are commonplace. But how exactly will generative AI affect the economy and businesses in the Hunter? \nLeaders need to be conscious of the governance\, ethics and proactive management techniques required to leverage AI to its full potential while mitigating the risks inherent in its use. \nJoin Business Hunter and redmarble.ai\, who are engineering intuitive software powered by AI for clients\, as we explore governance\, ethics and leadership for the responsible use of AI. \nWith thanks to the sponsors\, Jacobs. \nRegister for tickets here.
URL:https://hunterinnofest.hyperstage.com.au/event/navigating-the-promise-and-peril-of-generative-ai/
LOCATION:Fort Scratchley\, 1/3 Nobbys Road\, Newcastle East\, NSW\, 2300\, Australia
ATTACH;FMTTYPE=image/jpeg:https://hunterinnofest.hyperstage.com.au/wp-content/uploads/2023/09/image.jpg
END:VEVENT
BEGIN:VEVENT
DTSTART;TZID=Australia/Sydney:20231012T110000
DTEND;TZID=Australia/Sydney:20231012T140000
DTSTAMP:20260420T011131
CREATED:20230807T190506Z
LAST-MODIFIED:20230905T031112Z
UID:10000005-1697108400-1697119200@hunterinnofest.hyperstage.com.au
SUMMARY:Maitland Roadshow Event
DESCRIPTION:Join us for an exciting event at the Hunter Innovation Festival Roadshow in Maitland! \nAre you ready to be a part of the region’s most prominent innovation extravaganza? The Hunter Innovation Festival Roadshow is hitting Maitland as part of its weeklong celebration\, and you’re invited to join the excitement. \nWhat to expect: \nNetworking: Connect with fellow industry leaders\, innovators\, and start-up enthusiasts from the Hunter region. This is your chance to expand your network and explore potential collaborations. \nInspiring discussions: Dive into meaningful discussions about the latest trends\, challenges\, and opportunities in the innovation landscape. Gain valuable knowledge from experienced professionals and thought leaders. \nThe Hunter Innovation Festival is renowned for bringing together a diverse array of individuals and organisations from the local innovation ecosystem. Don’t miss this chance to be a part of something big and contribute to the growth of the Hunter economy. \nEvent Schedule: \n11.00am – Registration/explore exhibition booths \n11.30am – Welcome address \n12.00pm – Light lunch/networking \n12.45pm – Panel discussion: Navigating innovation in the Hunter region \n1:30pm – Closing remarks \nBe prepared for an inspiring and informative day that will leave you motivated and empowered to drive innovation forward in the Hunter region. \nSecure your spot by registering on our Eventbrite page. Limited seats are available\, so don’t miss out on this opportunity. \nClick here for your free ticket.
URL:https://hunterinnofest.hyperstage.com.au/event/maitland-roadshow-event/
LOCATION:Maitland Athletics Centre\, 226 High Street Maitland\, Maitland\, NSW\, 2320\, Australia
ATTACH;FMTTYPE=image/jpeg:https://hunterinnofest.hyperstage.com.au/wp-content/uploads/2023/08/https___cdn.evbuc_.com_images_586003199_253917345960_1_original.jpg
END:VEVENT
BEGIN:VEVENT
DTSTART;TZID=Australia/Sydney:20231011T170000
DTEND;TZID=Australia/Sydney:20231011T190000
DTSTAMP:20260420T011131
CREATED:20230807T190434Z
LAST-MODIFIED:20230906T200526Z
UID:10000004-1697043600-1697050800@hunterinnofest.hyperstage.com.au
SUMMARY:Port Stephens Roadshow Event
DESCRIPTION:Join host and innovation enabler the Varley Group and be inspired by the innovation ecosystem that’s growing in Tomago\, Port Stephens. \n\n\nThe Hunter Innovation Festival’s Roadshow series aims to build awareness and increase recognition of innovation across the Hunter region. This event showcases the growing innovation ecosystem in and around Tomago which is enabling significant growth\, particularly in the renewable energy sector. \nJoin us at this free event for light refreshments\, and hear about the innovation journey from concept to commercialisation from guest speakers including: \nUniversity of Newcastle – the University’s role in nurturing greentech innovation. \nMGA Thermal – a company dedicated to the provision of cost-effective\, scalable thermal energy storage materials and associated knowhow – taking it from concept through commissioning to commercialisation\, securing funding for growth. \nLAVO – powering a cleaner and greener future by providing scalable\, flexible\, long duration hydrogen storage and integrated Artificial Intelligence (AI)-enabled digital solutions for customers worldwide. The importance of partnerships and collaboration. \nVarley Group – one of Australia’s oldest and most advanced engineering and manufacturing companies\, with a comprehensive range of first class products\, service and workmanship to major industries. Varley’s custom engineering and production and made-to-specification manufacturing services help turn concepts into commercial successes\, and drive innovation in the Hunter and beyond. Varley is a leading E-Tech development & commercialisation company with a strong track record spanning over 15 years. \n\n\nClick here for your free ticket.
URL:https://hunterinnofest.hyperstage.com.au/event/port-stephens-roadshow-event/
LOCATION:Varley Group\, 21 School Drive\, Tomago\, NSW\, 2322\, Australia
ATTACH;FMTTYPE=image/jpeg:https://hunterinnofest.hyperstage.com.au/wp-content/uploads/2023/08/192499437_5591523260889439_4189505704930555315_n.jpg
END:VEVENT
BEGIN:VEVENT
DTSTART;TZID=Australia/Sydney:20231010T170000
DTEND;TZID=Australia/Sydney:20231010T193000
DTSTAMP:20260420T011131
CREATED:20230807T190400Z
LAST-MODIFIED:20230911T232446Z
UID:10000003-1696957200-1696966200@hunterinnofest.hyperstage.com.au
SUMMARY:Singleton Roadshow Event
DESCRIPTION:Want to know how to successfully fund and take your next business idea to market? \nCome to this practical commercialisation and funding workshop\, lead by The Business Centre\, where innovation experts will walk you through the 3 steps to go to market and provide tips and advice on how to get funder ready. \nMeet innovation\, funding and commercialisation experts who can talk one on one and provide ongoing advisory support to help you commercialise your product\, service\, or idea. \nThey will cover: \n\nIdea – how to assess the market opportunity and develop the business case.\nInvestment – how to develop your pitch and identify funding opportunities.\nIncome – how to connect\, test\, scale and grow.\n\n  \nAre you: \n\na business in early start up stage?\nan existing business with a new innovation to take to market?\nor do you have an idea but don’t know where to start?\n\nThis event will help you get started and also give you an opportunity to meet experienced Business Connect advisors who can provide additional fee free support (up to 36 hours) on how to take your idea to market or get funding\, as well as provide support for online digital services. Plus meet like mined entrepreneurs locally and regionally. \nGet your ticket today. Places are limited to allow time to meet with expert advisors. \nClick here to get your free ticket.\nPart of the Hunter Innovation Festival Roadshow\, this event brings entrepreneurs together to access local\, free fee advisors who can help you kick start your idea.
URL:https://hunterinnofest.hyperstage.com.au/event/singleton-road-show/
LOCATION:The Central Bar & Kitchen\, 51 John Street\, Singleton\, NSW\, 2330\, Australia
ATTACH;FMTTYPE=image/jpeg:https://hunterinnofest.hyperstage.com.au/wp-content/uploads/2023/08/Hunter-Innovation-Festival-2023-Idea-Investment-Income-EB-Banner.jpg
END:VEVENT
BEGIN:VEVENT
DTSTART;TZID=Australia/Sydney:20231009T150000
DTEND;TZID=Australia/Sydney:20231009T180000
DTSTAMP:20260420T011131
CREATED:20230807T190311Z
LAST-MODIFIED:20230912T002005Z
UID:10000002-1696863600-1696874400@hunterinnofest.hyperstage.com.au
SUMMARY:Muswellbrook Roadshow Event
DESCRIPTION:Hunter Innovation Festival is back in 2023\, with a series of roadshows to be hosted from 9th to 13th October and a one-day event on Thursday 19th October at Newcastle City Hall. It is the largest event connecting industry\, innovators and start-ups to grow the Hunter economy. \nEvery year\, hundreds of people\, and organisations from across the local innovation ecosystem attend workshops\, discussions\, and seminars during the Hunter Innovation Festival program. \nThis year Muswellbrook is hosting an event for the first time at the magnificent Hunter Innovation Precinct\, which was recently opened by PM Anthony Albanese. Join us at this free event for light refreshments and plenty of exciting topics to explore. \nThe Innovation for Regional Businesses Event topics include: \n\nUnleashing Innovation\nInnovation Culture\nUnlocking IP\nPrioritising R&D\nInnovation through Transition\nCreating and Encouraging Innovative Students\nAdopting Automation\, Robotics and Mechatronics\n\nClick here to register for your free ticket today
URL:https://hunterinnofest.hyperstage.com.au/event/muswellbrook-road-show/
LOCATION:The Donald Horne Building\, 140 Bridge Street\, Muswellbrook\, NSW\, 2333\, Australia
ATTACH;FMTTYPE=image/jpeg:https://hunterinnofest.hyperstage.com.au/wp-content/uploads/2023/08/https___cdn.evbuc_.com_images_593074469_233996609133_1_original.jpg
END:VEVENT
END:VCALENDAR