BEGIN:VCALENDAR
VERSION:2.0
PRODID:-//Hunter Innovation Festival - ECPv6.0.0//NONSGML v1.0//EN
CALSCALE:GREGORIAN
METHOD:PUBLISH
X-WR-CALNAME:Hunter Innovation Festival
X-ORIGINAL-URL:https://hunterinnofest.hyperstage.com.au
X-WR-CALDESC:Events for Hunter Innovation Festival
REFRESH-INTERVAL;VALUE=DURATION:PT1H
X-Robots-Tag:noindex
X-PUBLISHED-TTL:PT1H
BEGIN:VTIMEZONE
TZID:Australia/Sydney
BEGIN:STANDARD
TZOFFSETFROM:+1100
TZOFFSETTO:+1000
TZNAME:AEST
DTSTART:20230401T160000
END:STANDARD
BEGIN:DAYLIGHT
TZOFFSETFROM:+1000
TZOFFSETTO:+1100
TZNAME:AEDT
DTSTART:20230930T160000
END:DAYLIGHT
END:VTIMEZONE
BEGIN:VEVENT
DTSTART;TZID=Australia/Sydney:20231012T170000
DTEND;TZID=Australia/Sydney:20231012T190000
DTSTAMP:20260420T032942
CREATED:20230926T194008Z
LAST-MODIFIED:20230926T194008Z
UID:10000008-1697130000-1697137200@hunterinnofest.hyperstage.com.au
SUMMARY:Navigating the Promise and Peril of Generative AI
DESCRIPTION:Predictions that generative artificial intelligence will displace millions of workers and cause widespread economic upheaval are commonplace. But how exactly will generative AI affect the economy and businesses in the Hunter? \nLeaders need to be conscious of the governance\, ethics and proactive management techniques required to leverage AI to its full potential while mitigating the risks inherent in its use. \nJoin Business Hunter and redmarble.ai\, who are engineering intuitive software powered by AI for clients\, as we explore governance\, ethics and leadership for the responsible use of AI. \nWith thanks to the sponsors\, Jacobs. \nRegister for tickets here.
URL:https://hunterinnofest.hyperstage.com.au/event/navigating-the-promise-and-peril-of-generative-ai/
LOCATION:Fort Scratchley\, 1/3 Nobbys Road\, Newcastle East\, NSW\, 2300\, Australia
ATTACH;FMTTYPE=image/jpeg:https://hunterinnofest.hyperstage.com.au/wp-content/uploads/2023/09/image.jpg
END:VEVENT
END:VCALENDAR