BEGIN:VCALENDAR
VERSION:2.0
PRODID:-//Hunter Innovation Festival - ECPv6.0.0//NONSGML v1.0//EN
CALSCALE:GREGORIAN
METHOD:PUBLISH
X-WR-CALNAME:Hunter Innovation Festival
X-ORIGINAL-URL:https://hunterinnofest.hyperstage.com.au
X-WR-CALDESC:Events for Hunter Innovation Festival
REFRESH-INTERVAL;VALUE=DURATION:PT1H
X-Robots-Tag:noindex
X-PUBLISHED-TTL:PT1H
BEGIN:VTIMEZONE
TZID:Australia/Sydney
BEGIN:STANDARD
TZOFFSETFROM:+1100
TZOFFSETTO:+1000
TZNAME:AEST
DTSTART:20230401T160000
END:STANDARD
BEGIN:DAYLIGHT
TZOFFSETFROM:+1000
TZOFFSETTO:+1100
TZNAME:AEDT
DTSTART:20230930T160000
END:DAYLIGHT
END:VTIMEZONE
BEGIN:VEVENT
DTSTART;TZID=Australia/Sydney:20231012T110000
DTEND;TZID=Australia/Sydney:20231012T140000
DTSTAMP:20260420T043611
CREATED:20230807T190506Z
LAST-MODIFIED:20230905T031112Z
UID:10000005-1697108400-1697119200@hunterinnofest.hyperstage.com.au
SUMMARY:Maitland Roadshow Event
DESCRIPTION:Join us for an exciting event at the Hunter Innovation Festival Roadshow in Maitland! \nAre you ready to be a part of the region’s most prominent innovation extravaganza? The Hunter Innovation Festival Roadshow is hitting Maitland as part of its weeklong celebration\, and you’re invited to join the excitement. \nWhat to expect: \nNetworking: Connect with fellow industry leaders\, innovators\, and start-up enthusiasts from the Hunter region. This is your chance to expand your network and explore potential collaborations. \nInspiring discussions: Dive into meaningful discussions about the latest trends\, challenges\, and opportunities in the innovation landscape. Gain valuable knowledge from experienced professionals and thought leaders. \nThe Hunter Innovation Festival is renowned for bringing together a diverse array of individuals and organisations from the local innovation ecosystem. Don’t miss this chance to be a part of something big and contribute to the growth of the Hunter economy. \nEvent Schedule: \n11.00am – Registration/explore exhibition booths \n11.30am – Welcome address \n12.00pm – Light lunch/networking \n12.45pm – Panel discussion: Navigating innovation in the Hunter region \n1:30pm – Closing remarks \nBe prepared for an inspiring and informative day that will leave you motivated and empowered to drive innovation forward in the Hunter region. \nSecure your spot by registering on our Eventbrite page. Limited seats are available\, so don’t miss out on this opportunity. \nClick here for your free ticket.
URL:https://hunterinnofest.hyperstage.com.au/event/maitland-roadshow-event/
LOCATION:Maitland Athletics Centre\, 226 High Street Maitland\, Maitland\, NSW\, 2320\, Australia
ATTACH;FMTTYPE=image/jpeg:https://hunterinnofest.hyperstage.com.au/wp-content/uploads/2023/08/https___cdn.evbuc_.com_images_586003199_253917345960_1_original.jpg
END:VEVENT
END:VCALENDAR