BEGIN:VCALENDAR
VERSION:2.0
PRODID:-//Hunter Innovation Festival - ECPv6.0.0//NONSGML v1.0//EN
CALSCALE:GREGORIAN
METHOD:PUBLISH
X-ORIGINAL-URL:https://hunterinnofest.hyperstage.com.au
X-WR-CALDESC:Events for Hunter Innovation Festival
REFRESH-INTERVAL;VALUE=DURATION:PT1H
X-Robots-Tag:noindex
X-PUBLISHED-TTL:PT1H
BEGIN:VTIMEZONE
TZID:Australia/Sydney
BEGIN:STANDARD
TZOFFSETFROM:+1100
TZOFFSETTO:+1000
TZNAME:AEST
DTSTART:20230401T160000
END:STANDARD
BEGIN:DAYLIGHT
TZOFFSETFROM:+1000
TZOFFSETTO:+1100
TZNAME:AEDT
DTSTART:20230930T160000
END:DAYLIGHT
END:VTIMEZONE
BEGIN:VEVENT
DTSTART;TZID=Australia/Sydney:20231013T073000
DTEND;TZID=Australia/Sydney:20231013T090000
DTSTAMP:20260420T033433
CREATED:20230807T190540Z
LAST-MODIFIED:20230906T200139Z
UID:10000006-1697182200-1697187600@hunterinnofest.hyperstage.com.au
SUMMARY:Lake Macquarie Roadshow Event
DESCRIPTION:In a world driven by innovation\, making has become a cornerstone of individual\, business\, and community progress. From small-scale workshops to global movements\, the act of creating\, tinkering\, and inventing is changing the way we approach problem-solving\, entrepreneurship\, and sustainability. \nJoin us for this networking breakfast and hear from industry speakers\, including Lake Macquarie City Council’s Fab Lab Lead\, Claire Chaikin-Bryan. \nLimited tickets are available\, so be sure to reserve your ticket early to guarantee your spot at this exciting event. \n\n\n\n\nTopics Covered \nFab Labs: Explore the global network of Digital Fabrication Laboratories (Fab Labs) and discover how these creative spaces empower individuals\, communities and businesses to turn ideas into tangible reality. Also hear about the Hunter’s own Fab Lab; the Lake Mac Libraries Fab Lab. \nFab City: Learn about the exciting concept of Fab City\, where cities envision a future where they produce locally what they consume globally\, fostering economic resilience and sustainability. \n\n\n\n\nWhat You’ll Gain by Attending \nInspiration: Gain fresh perspectives on innovation and the power of making to drive change. \nKnowledge: Acquire insights into Fab Labs\, the maker movement\, and Fab City\, and how these concepts are influencing innovation worldwide. \nNetworking: Connect with like-minded professionals\, entrepreneurs\, and innovators from the Hunter region\, opening doors to potential collaborations and opportunities. \n\n\n\n\nThis event is being hosted by Lake Macquarie City Council as part of the Hunter Innovation Festival Roadshow. \nClick here for your free ticket.
URL:https://hunterinnofest.hyperstage.com.au/event/lake-macquarie-roadshow-event/
LOCATION:Multi-Arts Pavilion (MAP mima) Lake Macquarie\, 96 Creek Reserve Road\, Speers Point\, NSW\, 2284\, Australia
ATTACH;FMTTYPE=image/jpeg:https://hunterinnofest.hyperstage.com.au/wp-content/uploads/2023/08/https___cdn.evbuc_.com_images_591448189_1651845862233_1_original.jpg
END:VEVENT
END:VCALENDAR