BEGIN:VCALENDAR
VERSION:2.0
PRODID:-//Hunter Innovation Festival - ECPv6.0.0//NONSGML v1.0//EN
CALSCALE:GREGORIAN
METHOD:PUBLISH
X-WR-CALNAME:Hunter Innovation Festival
X-ORIGINAL-URL:https://hunterinnofest.hyperstage.com.au
X-WR-CALDESC:Events for Hunter Innovation Festival
REFRESH-INTERVAL;VALUE=DURATION:PT1H
X-Robots-Tag:noindex
X-PUBLISHED-TTL:PT1H
BEGIN:VTIMEZONE
TZID:Australia/Sydney
BEGIN:STANDARD
TZOFFSETFROM:+1100
TZOFFSETTO:+1000
TZNAME:AEST
DTSTART:20230401T160000
END:STANDARD
BEGIN:DAYLIGHT
TZOFFSETFROM:+1000
TZOFFSETTO:+1100
TZNAME:AEDT
DTSTART:20230930T160000
END:DAYLIGHT
END:VTIMEZONE
BEGIN:VEVENT
DTSTART;TZID=Australia/Sydney:20231010T170000
DTEND;TZID=Australia/Sydney:20231010T193000
DTSTAMP:20260420T033110
CREATED:20230807T190400Z
LAST-MODIFIED:20230911T232446Z
UID:10000003-1696957200-1696966200@hunterinnofest.hyperstage.com.au
SUMMARY:Singleton Roadshow Event
DESCRIPTION:Want to know how to successfully fund and take your next business idea to market? \nCome to this practical commercialisation and funding workshop\, lead by The Business Centre\, where innovation experts will walk you through the 3 steps to go to market and provide tips and advice on how to get funder ready. \nMeet innovation\, funding and commercialisation experts who can talk one on one and provide ongoing advisory support to help you commercialise your product\, service\, or idea. \nThey will cover: \n\nIdea – how to assess the market opportunity and develop the business case.\nInvestment – how to develop your pitch and identify funding opportunities.\nIncome – how to connect\, test\, scale and grow.\n\n  \nAre you: \n\na business in early start up stage?\nan existing business with a new innovation to take to market?\nor do you have an idea but don’t know where to start?\n\nThis event will help you get started and also give you an opportunity to meet experienced Business Connect advisors who can provide additional fee free support (up to 36 hours) on how to take your idea to market or get funding\, as well as provide support for online digital services. Plus meet like mined entrepreneurs locally and regionally. \nGet your ticket today. Places are limited to allow time to meet with expert advisors. \nClick here to get your free ticket.\nPart of the Hunter Innovation Festival Roadshow\, this event brings entrepreneurs together to access local\, free fee advisors who can help you kick start your idea.
URL:https://hunterinnofest.hyperstage.com.au/event/singleton-road-show/
LOCATION:The Central Bar & Kitchen\, 51 John Street\, Singleton\, NSW\, 2330\, Australia
ATTACH;FMTTYPE=image/jpeg:https://hunterinnofest.hyperstage.com.au/wp-content/uploads/2023/08/Hunter-Innovation-Festival-2023-Idea-Investment-Income-EB-Banner.jpg
END:VEVENT
END:VCALENDAR